BEGIN:VCALENDAR
VERSION:2.0
PRODID:-//Ajuntament de La Torre de les Maçanes - ECPv6.15.15//NONSGML v1.0//EN
CALSCALE:GREGORIAN
METHOD:PUBLISH
X-ORIGINAL-URL:https://www.torremanzanas.es
X-WR-CALDESC:Eventos para Ajuntament de La Torre de les Maçanes
REFRESH-INTERVAL;VALUE=DURATION:PT1H
X-Robots-Tag:noindex
X-PUBLISHED-TTL:PT1H
BEGIN:VTIMEZONE
TZID:Europe/Madrid
BEGIN:DAYLIGHT
TZOFFSETFROM:+0100
TZOFFSETTO:+0200
TZNAME:CEST
DTSTART:20220327T010000
END:DAYLIGHT
BEGIN:STANDARD
TZOFFSETFROM:+0200
TZOFFSETTO:+0100
TZNAME:CET
DTSTART:20221030T010000
END:STANDARD
BEGIN:DAYLIGHT
TZOFFSETFROM:+0100
TZOFFSETTO:+0200
TZNAME:CEST
DTSTART:20230326T010000
END:DAYLIGHT
BEGIN:STANDARD
TZOFFSETFROM:+0200
TZOFFSETTO:+0100
TZNAME:CET
DTSTART:20231029T010000
END:STANDARD
BEGIN:DAYLIGHT
TZOFFSETFROM:+0100
TZOFFSETTO:+0200
TZNAME:CEST
DTSTART:20240331T010000
END:DAYLIGHT
BEGIN:STANDARD
TZOFFSETFROM:+0200
TZOFFSETTO:+0100
TZNAME:CET
DTSTART:20241027T010000
END:STANDARD
END:VTIMEZONE
BEGIN:VEVENT
DTSTART;TZID=Europe/Madrid:20231117T190000
DTEND;TZID=Europe/Madrid:20231117T203000
DTSTAMP:20260423T184410
CREATED:20231113T113202Z
LAST-MODIFIED:20231113T113202Z
UID:10002455-1700247600-1700253000@www.torremanzanas.es
SUMMARY:?Charla informativa sobre el robo de aceitunas a los agricultores. Seguridad en el campo. Viernes 17/11/23 a las 19:00 h en la Cooperativa (C/ San Isidro\, 18). Para TODOS\, socios y no socios de la cooperativa.
DESCRIPTION:
URL:https://www.torremanzanas.es/event/%f0%9f%ab%92charla-informativa-sobre-el-robo-de-aceitunas-a-los-agricultores-seguridad-en-el-campo-viernes-17-11-23-a-las-1900-h-en-la-cooperativa-c-san-isidro-18-para-todos-socios-y-no-socio/
LOCATION:Cooperativa de La Torre de les Maçanes\, c/ San Isidro\, 18\, LA TORRE DE LES MAÇANES\, alacant\, 03108\, España
CATEGORIES:Formación
ATTACH;FMTTYPE=image/png:https://www.torremanzanas.es/wp-content/uploads/2023/11/Charla-informativa-sobre-el-robo6.png
END:VEVENT
END:VCALENDAR