BEGIN:VCALENDAR
VERSION:2.0
PRODID:-//Ajuntament de La Torre de les Maçanes - ECPv6.15.15//NONSGML v1.0//EN
CALSCALE:GREGORIAN
METHOD:PUBLISH
X-WR-CALNAME:Ajuntament de La Torre de les Maçanes
X-ORIGINAL-URL:https://www.torremanzanas.es
X-WR-CALDESC:Eventos para Ajuntament de La Torre de les Maçanes
REFRESH-INTERVAL;VALUE=DURATION:PT1H
X-Robots-Tag:noindex
X-PUBLISHED-TTL:PT1H
BEGIN:VTIMEZONE
TZID:Europe/Madrid
BEGIN:DAYLIGHT
TZOFFSETFROM:+0100
TZOFFSETTO:+0200
TZNAME:CEST
DTSTART:20190331T010000
END:DAYLIGHT
BEGIN:STANDARD
TZOFFSETFROM:+0200
TZOFFSETTO:+0100
TZNAME:CET
DTSTART:20191027T010000
END:STANDARD
BEGIN:DAYLIGHT
TZOFFSETFROM:+0100
TZOFFSETTO:+0200
TZNAME:CEST
DTSTART:20200329T010000
END:DAYLIGHT
BEGIN:STANDARD
TZOFFSETFROM:+0200
TZOFFSETTO:+0100
TZNAME:CET
DTSTART:20201025T010000
END:STANDARD
BEGIN:DAYLIGHT
TZOFFSETFROM:+0100
TZOFFSETTO:+0200
TZNAME:CEST
DTSTART:20210328T010000
END:DAYLIGHT
BEGIN:STANDARD
TZOFFSETFROM:+0200
TZOFFSETTO:+0100
TZNAME:CET
DTSTART:20211031T010000
END:STANDARD
END:VTIMEZONE
BEGIN:VEVENT
DTSTART;TZID=Europe/Madrid:20201124T080000
DTEND;TZID=Europe/Madrid:20201127T170000
DTSTAMP:20260425T011838
CREATED:20201123T104258Z
LAST-MODIFIED:20201123T104316Z
UID:10001590-1606204800-1606496400@www.torremanzanas.es
SUMMARY:Calle cortada por obras
DESCRIPTION:Se comunica que con motivo de las obras que están realizando en la Calle del Sol\, la calle estará cortada desde el día 24 de noviembre al 27 de noviembre.\nDisculpen las molestias
URL:https://www.torremanzanas.es/event/calle-cortada-por-obras/
LOCATION:Avda. España\, 3\, La Torre de les Maçanes\, 03108\, España
CATEGORIES:Varios
ATTACH;FMTTYPE=image/png:https://www.torremanzanas.es/wp-content/uploads/2018/11/Torremanzanas.png
END:VEVENT
END:VCALENDAR