BEGIN:VCALENDAR
VERSION:2.0
PRODID:-//Ajuntament de La Torre de les Maçanes - ECPv6.15.15//NONSGML v1.0//EN
CALSCALE:GREGORIAN
METHOD:PUBLISH
X-WR-CALNAME:Ajuntament de La Torre de les Maçanes
X-ORIGINAL-URL:https://www.torremanzanas.es
X-WR-CALDESC:Eventos para Ajuntament de La Torre de les Maçanes
REFRESH-INTERVAL;VALUE=DURATION:PT1H
X-Robots-Tag:noindex
X-PUBLISHED-TTL:PT1H
BEGIN:VTIMEZONE
TZID:Europe/Madrid
BEGIN:DAYLIGHT
TZOFFSETFROM:+0100
TZOFFSETTO:+0200
TZNAME:CEST
DTSTART:20210328T010000
END:DAYLIGHT
BEGIN:STANDARD
TZOFFSETFROM:+0200
TZOFFSETTO:+0100
TZNAME:CET
DTSTART:20211031T010000
END:STANDARD
BEGIN:DAYLIGHT
TZOFFSETFROM:+0100
TZOFFSETTO:+0200
TZNAME:CEST
DTSTART:20220327T010000
END:DAYLIGHT
BEGIN:STANDARD
TZOFFSETFROM:+0200
TZOFFSETTO:+0100
TZNAME:CET
DTSTART:20221030T010000
END:STANDARD
BEGIN:DAYLIGHT
TZOFFSETFROM:+0100
TZOFFSETTO:+0200
TZNAME:CEST
DTSTART:20230326T010000
END:DAYLIGHT
BEGIN:STANDARD
TZOFFSETFROM:+0200
TZOFFSETTO:+0100
TZNAME:CET
DTSTART:20231029T010000
END:STANDARD
END:VTIMEZONE
BEGIN:VEVENT
DTSTART;TZID=Europe/Madrid:20220902T190000
DTEND;TZID=Europe/Madrid:20220902T210000
DTSTAMP:20260424T070419
CREATED:20220722T075557Z
LAST-MODIFIED:20220722T075737Z
UID:10001226-1662145200-1662152400@www.torremanzanas.es
SUMMARY:Exposición de óleos Toni Gosálbez
DESCRIPTION:No et perdes aquesta  vesprada a les 19h\, la inauguració de l’exposició d’olis  de Toni Gosálbez en el «Basi».\nPots visitar l’exposició els divendres i dissabtes de  19h a 21h i els diumenges de 12h a 14h.\n——-\nNo te pierdas esta  tarde a las 19h\, la inauguración de la exposición de óleos de Toni Gosálbez en el «Basi».\nPuedes visitar la exposición los viernes y sábados de 19h a 21h y los domingos de 12h a 14h.
URL:https://www.torremanzanas.es/event/exposicion-de-oleos/2022-09-02/
LOCATION:Avda. España\, 3\, La Torre de les Maçanes\, 03108\, España
CATEGORIES:Cultura
END:VEVENT
BEGIN:VEVENT
DTSTART;TZID=Europe/Madrid:20220903T190000
DTEND;TZID=Europe/Madrid:20220903T210000
DTSTAMP:20260424T070419
CREATED:20220722T075557Z
LAST-MODIFIED:20220722T075737Z
UID:10001227-1662231600-1662238800@www.torremanzanas.es
SUMMARY:Exposición de óleos Toni Gosálbez
DESCRIPTION:No et perdes aquesta  vesprada a les 19h\, la inauguració de l’exposició d’olis  de Toni Gosálbez en el «Basi».\nPots visitar l’exposició els divendres i dissabtes de  19h a 21h i els diumenges de 12h a 14h.\n——-\nNo te pierdas esta  tarde a las 19h\, la inauguración de la exposición de óleos de Toni Gosálbez en el «Basi».\nPuedes visitar la exposición los viernes y sábados de 19h a 21h y los domingos de 12h a 14h.
URL:https://www.torremanzanas.es/event/exposicion-de-oleos/2022-09-03/
LOCATION:Avda. España\, 3\, La Torre de les Maçanes\, 03108\, España
CATEGORIES:Cultura
END:VEVENT
BEGIN:VEVENT
DTSTART;TZID=Europe/Madrid:20220904T120000
DTEND;TZID=Europe/Madrid:20220904T140000
DTSTAMP:20260424T070419
CREATED:20220722T080324Z
LAST-MODIFIED:20220722T081317Z
UID:10001255-1662292800-1662300000@www.torremanzanas.es
SUMMARY:Exposición de óleos Toni Gosálbez
DESCRIPTION:No et perdes aquesta  vesprada a les 19h\, la inauguració de l’exposició d’olis  de Toni Gosálbez en el «Basi».\nPots visitar l’exposició els divendres i dissabtes de  19h a 21h i els diumenges de 12h a 14h.\n——-\nNo te pierdas esta  tarde a las 19h\, la inauguración de la exposición de óleos de Toni Gosálbez en el «Basi».\nPuedes visitar la exposición los viernes y sábados de 19h a 21h y los domingos de 12h a 14h.
URL:https://www.torremanzanas.es/event/exposicion-de-oleos-toni-gosalbez/2022-09-04/
LOCATION:Avda. España\, 3\, La Torre de les Maçanes\, 03108\, España
CATEGORIES:Cultura
END:VEVENT
END:VCALENDAR