BEGIN:VCALENDAR
VERSION:2.0
PRODID:-//Ajuntament de La Torre de les Maçanes - ECPv6.15.15//NONSGML v1.0//EN
CALSCALE:GREGORIAN
METHOD:PUBLISH
X-ORIGINAL-URL:https://www.torremanzanas.es
X-WR-CALDESC:Eventos para Ajuntament de La Torre de les Maçanes
REFRESH-INTERVAL;VALUE=DURATION:PT1H
X-Robots-Tag:noindex
X-PUBLISHED-TTL:PT1H
BEGIN:VTIMEZONE
TZID:Europe/Madrid
BEGIN:DAYLIGHT
TZOFFSETFROM:+0100
TZOFFSETTO:+0200
TZNAME:CEST
DTSTART:20210328T010000
END:DAYLIGHT
BEGIN:STANDARD
TZOFFSETFROM:+0200
TZOFFSETTO:+0100
TZNAME:CET
DTSTART:20211031T010000
END:STANDARD
BEGIN:DAYLIGHT
TZOFFSETFROM:+0100
TZOFFSETTO:+0200
TZNAME:CEST
DTSTART:20220327T010000
END:DAYLIGHT
BEGIN:STANDARD
TZOFFSETFROM:+0200
TZOFFSETTO:+0100
TZNAME:CET
DTSTART:20221030T010000
END:STANDARD
BEGIN:DAYLIGHT
TZOFFSETFROM:+0100
TZOFFSETTO:+0200
TZNAME:CEST
DTSTART:20230326T010000
END:DAYLIGHT
BEGIN:STANDARD
TZOFFSETFROM:+0200
TZOFFSETTO:+0100
TZNAME:CET
DTSTART:20231029T010000
END:STANDARD
END:VTIMEZONE
BEGIN:VEVENT
DTSTART;TZID=Europe/Madrid:20220801T110000
DTEND;TZID=Europe/Madrid:20220801T130000
DTSTAMP:20260424T052321
CREATED:20220728T102537Z
LAST-MODIFIED:20220728T102537Z
UID:10000702-1659351600-1659358800@www.torremanzanas.es
SUMMARY:Mural participativo
DESCRIPTION:Si tienes entre 12 y 30 años\, ven y colabora en el mural participativo  que se realizará en el CEIP La Torre de les Maçanes\, el lunes 1 de agosto de 11 a 13h y el martes 2 de agosto de 17 a 21h.\n——\nSi tienes entre 12 y 30 años\, ven y colabora en el mural participativo  que se realizará en el CEIP La Torre de les Maçanes\, el lunes 1 de agosto de 11 a 13h y el martes 2 de agosto de 17 a 21h.
URL:https://www.torremanzanas.es/event/mural-participativo/2022-08-01/
LOCATION:Patio del colegio\, Avda España\, La Torre de les Maçanes\, 03108\, España
CATEGORIES:Cultura
END:VEVENT
BEGIN:VEVENT
DTSTART;TZID=Europe/Madrid:20220802T170000
DTEND;TZID=Europe/Madrid:20220802T210000
DTSTAMP:20260424T052321
CREATED:20220728T102537Z
LAST-MODIFIED:20220728T102537Z
UID:10000703-1659459600-1659474000@www.torremanzanas.es
SUMMARY:Mural participativo
DESCRIPTION:Si tienes entre 12 y 30 años\, ven y colabora en el mural participativo  que se realizará en el CEIP La Torre de les Maçanes\, el lunes 1 de agosto de 11 a 13h y el martes 2 de agosto de 17 a 21h.\n——\nSi tienes entre 12 y 30 años\, ven y colabora en el mural participativo  que se realizará en el CEIP La Torre de les Maçanes\, el lunes 1 de agosto de 11 a 13h y el martes 2 de agosto de 17 a 21h.
URL:https://www.torremanzanas.es/event/mural-participativo/2022-08-02/
LOCATION:Patio del colegio\, Avda España\, La Torre de les Maçanes\, 03108\, España
CATEGORIES:Cultura
END:VEVENT
BEGIN:VEVENT
DTSTART;TZID=Europe/Madrid:20220804T220000
DTEND;TZID=Europe/Madrid:20220804T233000
DTSTAMP:20260424T052321
CREATED:20220711T110111Z
LAST-MODIFIED:20220711T110111Z
UID:10001800-1659650400-1659655800@www.torremanzanas.es
SUMMARY:Dijous d'estiu. Cinema "Shrek 1"
DESCRIPTION:?Cinema «Shrek 1». Entrada gratuïta ?\n\n\nFinançat per l’Excma. Diputació Provincial d’Alacant\, 2022\, «Dijous d’estiu. Cinema en valencià»\, convocatòria d’ajudes a Ajuntaments de la Província d’Alacant per a la el foment de la llengua i cultura valenciana\, anualitat 2022\, per import de ? 2976\,60 €\, equivalent al ?%.\n\n\n——\n\n\n?Cine «Shrek 1». Entrada gratuita ?\n\n\nFinanciado por la Excma. Diputación Provincial de Alicante\, 2022\, «Jueves de verano. Cine en valenciano»\, convocatoria de ayudas a Ayuntamientos de la Provincia de Alicante para la el fomento de la lengua y cultura valenciana\, anualidad 2022\, por importe de ? 2976\,60 €\, equivalente al ?%.
URL:https://www.torremanzanas.es/event/dijous-destiu-cinema-shrek-1/
LOCATION:Patio del colegio\, Avda España\, La Torre de les Maçanes\, 03108\, España
CATEGORIES:Cultura
END:VEVENT
BEGIN:VEVENT
DTSTART;TZID=Europe/Madrid:20220805T190000
DTEND;TZID=Europe/Madrid:20220805T210000
DTSTAMP:20260424T052321
CREATED:20220722T075557Z
LAST-MODIFIED:20220722T075737Z
UID:10001218-1659726000-1659733200@www.torremanzanas.es
SUMMARY:Exposición de óleos Toni Gosálbez
DESCRIPTION:No et perdes aquesta  vesprada a les 19h\, la inauguració de l’exposició d’olis  de Toni Gosálbez en el «Basi».\nPots visitar l’exposició els divendres i dissabtes de  19h a 21h i els diumenges de 12h a 14h.\n——-\nNo te pierdas esta  tarde a las 19h\, la inauguración de la exposición de óleos de Toni Gosálbez en el «Basi».\nPuedes visitar la exposición los viernes y sábados de 19h a 21h y los domingos de 12h a 14h.
URL:https://www.torremanzanas.es/event/exposicion-de-oleos/2022-08-05/
LOCATION:Avda. España\, 3\, La Torre de les Maçanes\, 03108\, España
CATEGORIES:Cultura
END:VEVENT
BEGIN:VEVENT
DTSTART;TZID=Europe/Madrid:20220806T190000
DTEND;TZID=Europe/Madrid:20220806T210000
DTSTAMP:20260424T052321
CREATED:20220722T075557Z
LAST-MODIFIED:20220722T075737Z
UID:10001219-1659812400-1659819600@www.torremanzanas.es
SUMMARY:Exposición de óleos Toni Gosálbez
DESCRIPTION:No et perdes aquesta  vesprada a les 19h\, la inauguració de l’exposició d’olis  de Toni Gosálbez en el «Basi».\nPots visitar l’exposició els divendres i dissabtes de  19h a 21h i els diumenges de 12h a 14h.\n——-\nNo te pierdas esta  tarde a las 19h\, la inauguración de la exposición de óleos de Toni Gosálbez en el «Basi».\nPuedes visitar la exposición los viernes y sábados de 19h a 21h y los domingos de 12h a 14h.
URL:https://www.torremanzanas.es/event/exposicion-de-oleos/2022-08-06/
LOCATION:Avda. España\, 3\, La Torre de les Maçanes\, 03108\, España
CATEGORIES:Cultura
END:VEVENT
BEGIN:VEVENT
DTSTART;TZID=Europe/Madrid:20220806T213000
DTEND;TZID=Europe/Madrid:20220806T223000
DTSTAMP:20260424T052321
CREATED:20220722T093305Z
LAST-MODIFIED:20220722T093305Z
UID:10001911-1659821400-1659825000@www.torremanzanas.es
SUMMARY:"Música de ayer\, hoy y siempre"
DESCRIPTION:No tens pla per al dissabte 6 d’agost?\n\n\nVine a la Torre de les Maçanes a escoltar Los Gavilanes amb «Música d’ahir\, hui i sempre»\, a les 21:30h al pati del col·legi.\n\n\nFinança la Diputació d’Alacant mitjançant la mitjançant convocatòria de la “Campanya de difusió de Música i Teatre. Anualitat 2022”\, per import subvencionat de 2.000\,00€\, corresponent al 85\,1063% del cost total de l’actuació.\n\n\n——-\n\n\n¿No tienes plan para el sábado 6 de agosto?\n\n\nVen a Torremanzanas a escuchar a Los Gavilanes con «Música de ayer\, hoy y siempre»\, a las 21:30h en el patio del colegio.\n\n\nFinancia la Diputación de Alicante mediante la mediante convocatoria de la “Campaña de difusión de Música y Teatro. Anualidad 2022”\, por importe subvencionado de 2.000\,00€\, correspondiente al 85\,1063% del coste total de la actuación.
URL:https://www.torremanzanas.es/event/musica-de-ayer-hoy-y-siempre/
LOCATION:Alacant
CATEGORIES:Cultura
END:VEVENT
BEGIN:VEVENT
DTSTART;TZID=Europe/Madrid:20220807T120000
DTEND;TZID=Europe/Madrid:20220807T140000
DTSTAMP:20260424T052321
CREATED:20220722T080324Z
LAST-MODIFIED:20220722T081317Z
UID:10001251-1659873600-1659880800@www.torremanzanas.es
SUMMARY:Exposición de óleos Toni Gosálbez
DESCRIPTION:No et perdes aquesta  vesprada a les 19h\, la inauguració de l’exposició d’olis  de Toni Gosálbez en el «Basi».\nPots visitar l’exposició els divendres i dissabtes de  19h a 21h i els diumenges de 12h a 14h.\n——-\nNo te pierdas esta  tarde a las 19h\, la inauguración de la exposición de óleos de Toni Gosálbez en el «Basi».\nPuedes visitar la exposición los viernes y sábados de 19h a 21h y los domingos de 12h a 14h.
URL:https://www.torremanzanas.es/event/exposicion-de-oleos-toni-gosalbez/2022-08-07/
LOCATION:Avda. España\, 3\, La Torre de les Maçanes\, 03108\, España
CATEGORIES:Cultura
END:VEVENT
BEGIN:VEVENT
DTSTART;TZID=Europe/Madrid:20220811T220000
DTEND;TZID=Europe/Madrid:20220811T233000
DTSTAMP:20260424T052321
CREATED:20220711T110637Z
LAST-MODIFIED:20220711T110637Z
UID:10001802-1660255200-1660260600@www.torremanzanas.es
SUMMARY:Dijous d'estiu. Cinema "Madagascar"
DESCRIPTION:?Cinema «Madagascar». Entrada gratuïta ?\n\n\nFinançat per l’Excma. Diputació Provincial d’Alacant\, 2022\, «Dijous d’estiu. Cinema en valencià»\, convocatòria d’ajudes a Ajuntaments de la Província d’Alacant per a la el foment de la llengua i cultura valenciana\, anualitat 2022\, per import de ? 2976\,60 €\, equivalent al ?%.\n\n\n——\n\n\n?Cine «Madagascar». Entrada gratuita ?\n\n\nFinanciado por la Excma. Diputación Provincial de Alicante\, 2022\, «Jueves de verano. Cine en valenciano»\, convocatoria de ayudas a Ayuntamientos de la Provincia de Alicante para la el fomento de la lengua y cultura valenciana\, anualidad 2022\, por importe de ? 2976\,60 €\, equivalente al ?%.
URL:https://www.torremanzanas.es/event/dijous-destiu-cinema-madagascar/
LOCATION:Patio del colegio\, Avda España\, La Torre de les Maçanes\, 03108\, España
CATEGORIES:Cultura
END:VEVENT
BEGIN:VEVENT
DTSTART;TZID=Europe/Madrid:20220812T190000
DTEND;TZID=Europe/Madrid:20220812T210000
DTSTAMP:20260424T052321
CREATED:20220722T075557Z
LAST-MODIFIED:20220722T075737Z
UID:10001220-1660330800-1660338000@www.torremanzanas.es
SUMMARY:Exposición de óleos Toni Gosálbez
DESCRIPTION:No et perdes aquesta  vesprada a les 19h\, la inauguració de l’exposició d’olis  de Toni Gosálbez en el «Basi».\nPots visitar l’exposició els divendres i dissabtes de  19h a 21h i els diumenges de 12h a 14h.\n——-\nNo te pierdas esta  tarde a las 19h\, la inauguración de la exposición de óleos de Toni Gosálbez en el «Basi».\nPuedes visitar la exposición los viernes y sábados de 19h a 21h y los domingos de 12h a 14h.
URL:https://www.torremanzanas.es/event/exposicion-de-oleos/2022-08-12/
LOCATION:Avda. España\, 3\, La Torre de les Maçanes\, 03108\, España
CATEGORIES:Cultura
END:VEVENT
BEGIN:VEVENT
DTSTART;TZID=Europe/Madrid:20220813T190000
DTEND;TZID=Europe/Madrid:20220813T210000
DTSTAMP:20260424T052321
CREATED:20220722T075557Z
LAST-MODIFIED:20220722T075737Z
UID:10001221-1660417200-1660424400@www.torremanzanas.es
SUMMARY:Exposición de óleos Toni Gosálbez
DESCRIPTION:No et perdes aquesta  vesprada a les 19h\, la inauguració de l’exposició d’olis  de Toni Gosálbez en el «Basi».\nPots visitar l’exposició els divendres i dissabtes de  19h a 21h i els diumenges de 12h a 14h.\n——-\nNo te pierdas esta  tarde a las 19h\, la inauguración de la exposición de óleos de Toni Gosálbez en el «Basi».\nPuedes visitar la exposición los viernes y sábados de 19h a 21h y los domingos de 12h a 14h.
URL:https://www.torremanzanas.es/event/exposicion-de-oleos/2022-08-13/
LOCATION:Avda. España\, 3\, La Torre de les Maçanes\, 03108\, España
CATEGORIES:Cultura
END:VEVENT
BEGIN:VEVENT
DTSTART;TZID=Europe/Madrid:20220814T120000
DTEND;TZID=Europe/Madrid:20220814T140000
DTSTAMP:20260424T052321
CREATED:20220722T080324Z
LAST-MODIFIED:20220722T081317Z
UID:10001252-1660478400-1660485600@www.torremanzanas.es
SUMMARY:Exposición de óleos Toni Gosálbez
DESCRIPTION:No et perdes aquesta  vesprada a les 19h\, la inauguració de l’exposició d’olis  de Toni Gosálbez en el «Basi».\nPots visitar l’exposició els divendres i dissabtes de  19h a 21h i els diumenges de 12h a 14h.\n——-\nNo te pierdas esta  tarde a las 19h\, la inauguración de la exposición de óleos de Toni Gosálbez en el «Basi».\nPuedes visitar la exposición los viernes y sábados de 19h a 21h y los domingos de 12h a 14h.
URL:https://www.torremanzanas.es/event/exposicion-de-oleos-toni-gosalbez/2022-08-14/
LOCATION:Avda. España\, 3\, La Torre de les Maçanes\, 03108\, España
CATEGORIES:Cultura
END:VEVENT
BEGIN:VEVENT
DTSTART;TZID=Europe/Madrid:20220814T210000
DTEND;TZID=Europe/Madrid:20220814T223000
DTSTAMP:20260424T052321
CREATED:20220720T122729Z
LAST-MODIFIED:20220720T122729Z
UID:10002335-1660510800-1660516200@www.torremanzanas.es
SUMMARY:Verbena Agosto 2022
DESCRIPTION:????????\n\n\nVe la segona revetla musical de l’estiu ?\n\n\nPer a amenitzar les festes de Fadrins estarà la S. M. L’Aliança de la Torre de les Maçanes fent música i alegrant els nostres carrers.\n\n\nFinançat per la Diputació d’Alacant.\n\n\n \n\n\n?️ DIUMENGE 14 D’AGOST\n\n\n? 21:00H.\n\n\n?Al PATI DE LES ESCOLES\n\n\n——–\n\n\n????????\n\n\nViene la segunda verbena musical del verano ?\n\n\nPara amenizar las fiestas de Fadrins estará la SM L’Aliança La Torre de les Maçanes haciendo música y alegrando nuestras calles.\n\n\nFinanciado por la Diputación de Alicante .\n\n\n \n\n\n?️ DOMINGO 14 De AGOST\n\n\n? 21:00H.\n\n\n?En EL PATIO DE LAS ESCUELAS
URL:https://www.torremanzanas.es/event/verbena-agosto-2022/
LOCATION:Patio del colegio\, Avda España\, La Torre de les Maçanes\, 03108\, España
CATEGORIES:Cultura
END:VEVENT
BEGIN:VEVENT
DTSTART;TZID=Europe/Madrid:20220819T190000
DTEND;TZID=Europe/Madrid:20220819T210000
DTSTAMP:20260424T052321
CREATED:20220722T075557Z
LAST-MODIFIED:20220722T075737Z
UID:10001222-1660935600-1660942800@www.torremanzanas.es
SUMMARY:Exposición de óleos Toni Gosálbez
DESCRIPTION:No et perdes aquesta  vesprada a les 19h\, la inauguració de l’exposició d’olis  de Toni Gosálbez en el «Basi».\nPots visitar l’exposició els divendres i dissabtes de  19h a 21h i els diumenges de 12h a 14h.\n——-\nNo te pierdas esta  tarde a las 19h\, la inauguración de la exposición de óleos de Toni Gosálbez en el «Basi».\nPuedes visitar la exposición los viernes y sábados de 19h a 21h y los domingos de 12h a 14h.
URL:https://www.torremanzanas.es/event/exposicion-de-oleos/2022-08-19/
LOCATION:Avda. España\, 3\, La Torre de les Maçanes\, 03108\, España
CATEGORIES:Cultura
END:VEVENT
BEGIN:VEVENT
DTSTART;TZID=Europe/Madrid:20220820T190000
DTEND;TZID=Europe/Madrid:20220820T210000
DTSTAMP:20260424T052321
CREATED:20220722T075557Z
LAST-MODIFIED:20220722T075737Z
UID:10001223-1661022000-1661029200@www.torremanzanas.es
SUMMARY:Exposición de óleos Toni Gosálbez
DESCRIPTION:No et perdes aquesta  vesprada a les 19h\, la inauguració de l’exposició d’olis  de Toni Gosálbez en el «Basi».\nPots visitar l’exposició els divendres i dissabtes de  19h a 21h i els diumenges de 12h a 14h.\n——-\nNo te pierdas esta  tarde a las 19h\, la inauguración de la exposición de óleos de Toni Gosálbez en el «Basi».\nPuedes visitar la exposición los viernes y sábados de 19h a 21h y los domingos de 12h a 14h.
URL:https://www.torremanzanas.es/event/exposicion-de-oleos/2022-08-20/
LOCATION:Avda. España\, 3\, La Torre de les Maçanes\, 03108\, España
CATEGORIES:Cultura
END:VEVENT
BEGIN:VEVENT
DTSTART;TZID=Europe/Madrid:20220821T120000
DTEND;TZID=Europe/Madrid:20220821T140000
DTSTAMP:20260424T052321
CREATED:20220722T080324Z
LAST-MODIFIED:20220722T081317Z
UID:10001253-1661083200-1661090400@www.torremanzanas.es
SUMMARY:Exposición de óleos Toni Gosálbez
DESCRIPTION:No et perdes aquesta  vesprada a les 19h\, la inauguració de l’exposició d’olis  de Toni Gosálbez en el «Basi».\nPots visitar l’exposició els divendres i dissabtes de  19h a 21h i els diumenges de 12h a 14h.\n——-\nNo te pierdas esta  tarde a las 19h\, la inauguración de la exposición de óleos de Toni Gosálbez en el «Basi».\nPuedes visitar la exposición los viernes y sábados de 19h a 21h y los domingos de 12h a 14h.
URL:https://www.torremanzanas.es/event/exposicion-de-oleos-toni-gosalbez/2022-08-21/
LOCATION:Avda. España\, 3\, La Torre de les Maçanes\, 03108\, España
CATEGORIES:Cultura
END:VEVENT
BEGIN:VEVENT
DTSTART;TZID=Europe/Madrid:20220826T190000
DTEND;TZID=Europe/Madrid:20220826T210000
DTSTAMP:20260424T052321
CREATED:20220722T075557Z
LAST-MODIFIED:20220722T075737Z
UID:10001224-1661540400-1661547600@www.torremanzanas.es
SUMMARY:Exposición de óleos Toni Gosálbez
DESCRIPTION:No et perdes aquesta  vesprada a les 19h\, la inauguració de l’exposició d’olis  de Toni Gosálbez en el «Basi».\nPots visitar l’exposició els divendres i dissabtes de  19h a 21h i els diumenges de 12h a 14h.\n——-\nNo te pierdas esta  tarde a las 19h\, la inauguración de la exposición de óleos de Toni Gosálbez en el «Basi».\nPuedes visitar la exposición los viernes y sábados de 19h a 21h y los domingos de 12h a 14h.
URL:https://www.torremanzanas.es/event/exposicion-de-oleos/2022-08-26/
LOCATION:Avda. España\, 3\, La Torre de les Maçanes\, 03108\, España
CATEGORIES:Cultura
END:VEVENT
BEGIN:VEVENT
DTSTART;TZID=Europe/Madrid:20220827T190000
DTEND;TZID=Europe/Madrid:20220827T210000
DTSTAMP:20260424T052321
CREATED:20220722T075557Z
LAST-MODIFIED:20220722T075737Z
UID:10001225-1661626800-1661634000@www.torremanzanas.es
SUMMARY:Exposición de óleos Toni Gosálbez
DESCRIPTION:No et perdes aquesta  vesprada a les 19h\, la inauguració de l’exposició d’olis  de Toni Gosálbez en el «Basi».\nPots visitar l’exposició els divendres i dissabtes de  19h a 21h i els diumenges de 12h a 14h.\n——-\nNo te pierdas esta  tarde a las 19h\, la inauguración de la exposición de óleos de Toni Gosálbez en el «Basi».\nPuedes visitar la exposición los viernes y sábados de 19h a 21h y los domingos de 12h a 14h.
URL:https://www.torremanzanas.es/event/exposicion-de-oleos/2022-08-27/
LOCATION:Avda. España\, 3\, La Torre de les Maçanes\, 03108\, España
CATEGORIES:Cultura
END:VEVENT
BEGIN:VEVENT
DTSTART;TZID=Europe/Madrid:20220828T120000
DTEND;TZID=Europe/Madrid:20220828T140000
DTSTAMP:20260424T052321
CREATED:20220722T080324Z
LAST-MODIFIED:20220722T081317Z
UID:10001254-1661688000-1661695200@www.torremanzanas.es
SUMMARY:Exposición de óleos Toni Gosálbez
DESCRIPTION:No et perdes aquesta  vesprada a les 19h\, la inauguració de l’exposició d’olis  de Toni Gosálbez en el «Basi».\nPots visitar l’exposició els divendres i dissabtes de  19h a 21h i els diumenges de 12h a 14h.\n——-\nNo te pierdas esta  tarde a las 19h\, la inauguración de la exposición de óleos de Toni Gosálbez en el «Basi».\nPuedes visitar la exposición los viernes y sábados de 19h a 21h y los domingos de 12h a 14h.
URL:https://www.torremanzanas.es/event/exposicion-de-oleos-toni-gosalbez/2022-08-28/
LOCATION:Avda. España\, 3\, La Torre de les Maçanes\, 03108\, España
CATEGORIES:Cultura
END:VEVENT
END:VCALENDAR