BEGIN:VCALENDAR
VERSION:2.0
PRODID:-//Ajuntament de La Torre de les Maçanes - ECPv6.15.15//NONSGML v1.0//EN
CALSCALE:GREGORIAN
METHOD:PUBLISH
X-ORIGINAL-URL:https://www.torremanzanas.es
X-WR-CALDESC:Eventos para Ajuntament de La Torre de les Maçanes
REFRESH-INTERVAL;VALUE=DURATION:PT1H
X-Robots-Tag:noindex
X-PUBLISHED-TTL:PT1H
BEGIN:VTIMEZONE
TZID:Europe/Madrid
BEGIN:DAYLIGHT
TZOFFSETFROM:+0100
TZOFFSETTO:+0200
TZNAME:CEST
DTSTART:20210328T010000
END:DAYLIGHT
BEGIN:STANDARD
TZOFFSETFROM:+0200
TZOFFSETTO:+0100
TZNAME:CET
DTSTART:20211031T010000
END:STANDARD
BEGIN:DAYLIGHT
TZOFFSETFROM:+0100
TZOFFSETTO:+0200
TZNAME:CEST
DTSTART:20220327T010000
END:DAYLIGHT
BEGIN:STANDARD
TZOFFSETFROM:+0200
TZOFFSETTO:+0100
TZNAME:CET
DTSTART:20221030T010000
END:STANDARD
BEGIN:DAYLIGHT
TZOFFSETFROM:+0100
TZOFFSETTO:+0200
TZNAME:CEST
DTSTART:20230326T010000
END:DAYLIGHT
BEGIN:STANDARD
TZOFFSETFROM:+0200
TZOFFSETTO:+0100
TZNAME:CET
DTSTART:20231029T010000
END:STANDARD
END:VTIMEZONE
BEGIN:VEVENT
DTSTART;TZID=Europe/Madrid:20220716T203000
DTEND;TZID=Europe/Madrid:20220716T220000
DTSTAMP:20260424T035045
CREATED:20220706T080902Z
LAST-MODIFIED:20220706T080902Z
UID:10002318-1658003400-1658008800@www.torremanzanas.es
SUMMARY:Teatro" El caballero y el dragón"
DESCRIPTION:No et perdes el teatre infantil sobre l’amistat d’un drac i un cavaller\, que els portaran a passar mil aventures. \n—— \nNo te pierdas el teatro infantil sobre la amistad de un dragón y un caballero\, que les llevarán a pasar mil aventuras. \n \n 
URL:https://www.torremanzanas.es/event/teatro-el-caballero-y-el-dragon/
LOCATION:Patio del colegio\, Avda España\, La Torre de les Maçanes\, 03108\, España
CATEGORIES:Cultura
END:VEVENT
BEGIN:VEVENT
DTSTART;TZID=Europe/Madrid:20220721T220000
DTEND;TZID=Europe/Madrid:20220721T233000
DTSTAMP:20260424T035045
CREATED:20220711T104124Z
LAST-MODIFIED:20220711T104221Z
UID:10002320-1658440800-1658446200@www.torremanzanas.es
SUMMARY:Dijous d'estiu. "Bebé jefazo"
DESCRIPTION:?Cinema «Bebé jefazo». Entrada gratuïta ?\n\n\nFinançat per l’Excma. Diputació Provincial d’Alacant\, 2022\, «Dijous d’estiu. Cinema en valencià»\, convocatòria d’ajudes a Ajuntaments de la Província d’Alacant per a la el foment de la llengua i cultura valenciana\, anualitat 2022\, per import de ? 2976\,60 €\, equivalent al ?%.\n\n\n——\n\n\n?Cine «Bebé jefazo». Entrada gratuita ?\n\n\nFinanciado por la Excma. Diputación Provincial de Alicante\, 2022\, «Jueves de verano. Cine en valenciano»\, convocatoria de ayudas a Ayuntamientos de la Provincia de Alicante para la el fomento de la lengua y cultura valenciana\, anualidad 2022\, por importe de ? 2976\,60 €\, equivalente al ?%.\n\n\n\n 
URL:https://www.torremanzanas.es/event/dijous-destiu-bebe-jefazo/
LOCATION:Patio del colegio\, Avda España\, La Torre de les Maçanes\, 03108\, España
CATEGORIES:Cultura
END:VEVENT
BEGIN:VEVENT
DTSTART;TZID=Europe/Madrid:20220722T190000
DTEND;TZID=Europe/Madrid:20220722T210000
DTSTAMP:20260424T035045
CREATED:20220722T075557Z
LAST-MODIFIED:20220722T075737Z
UID:10001214-1658516400-1658523600@www.torremanzanas.es
SUMMARY:Exposición de óleos Toni Gosálbez
DESCRIPTION:No et perdes aquesta  vesprada a les 19h\, la inauguració de l’exposició d’olis  de Toni Gosálbez en el «Basi».\nPots visitar l’exposició els divendres i dissabtes de  19h a 21h i els diumenges de 12h a 14h.\n——-\nNo te pierdas esta  tarde a las 19h\, la inauguración de la exposición de óleos de Toni Gosálbez en el «Basi».\nPuedes visitar la exposición los viernes y sábados de 19h a 21h y los domingos de 12h a 14h.
URL:https://www.torremanzanas.es/event/exposicion-de-oleos/2022-07-22/
LOCATION:Avda. España\, 3\, La Torre de les Maçanes\, 03108\, España
CATEGORIES:Cultura
END:VEVENT
BEGIN:VEVENT
DTSTART;TZID=Europe/Madrid:20220722T210000
DTEND;TZID=Europe/Madrid:20220722T223000
DTSTAMP:20260424T035045
CREATED:20220720T112811Z
LAST-MODIFIED:20220720T112811Z
UID:10002329-1658523600-1658529000@www.torremanzanas.es
SUMMARY:Verbena julio 2022
DESCRIPTION:Ja tenim les festes de Santa Anna!\n\n\nPer a començar amb bon peu les festes\, el millor és acudir a la revetla de l’estiu demà divendres 22 de juliol a les 21 h en la plaça del poble.\n\n\n \n\n\nLa S. M. L’Aliança de la Torre de les Maçanes t’espera\n\n\n—-\n\n\n¡Ya tenemos las fiestas de Santa Anna! \n\n\nPara empezar con buen pie las fiestas\, lo mejor es acudir a la verbena del verano mañana viernes 22 de julio a las 21 h en la plaza del pueblo.\n\n\n \n\n\nLa S.M. L’Aliança de Torremanzanas te espera
URL:https://www.torremanzanas.es/event/verbena-julio-2022/
LOCATION:Alacant
CATEGORIES:Cultura
END:VEVENT
BEGIN:VEVENT
DTSTART;TZID=Europe/Madrid:20220723T190000
DTEND;TZID=Europe/Madrid:20220723T200000
DTSTAMP:20260424T035045
CREATED:20220722T090331Z
LAST-MODIFIED:20220722T090331Z
UID:10002419-1658602800-1658606400@www.torremanzanas.es
SUMMARY:Teatro itinerante "Aventura prehistórica"
DESCRIPTION:No et perdes «Aventura Prehistòrica»!\n\n\nDemà a les 19:00h\, podrem gaudir d’un teatre de carrer\, on un paleontòleg intentarà descobrir per què han tornat uns dinosaures a la Terra\, juntament amb una tribu cavernícola.\n\n\nFinança la Diputació d’Alacant mitjançant la convocatòria de la “Campanya de difusió de Música i Teatre. Anualitat 2022”\, per import subvencionat de  2.000\,00€\, corresponent al 100% del cost total de l’actuació.\n\n\n——\n\n\n¡No te pierdas «Aventura Prehistórica»!\n\n\nMañana a las 19:00h\, podremos disfrutar de un teatro de calle\, donde un paleontólogo intentará descubrir por qué han vuelto unos dinosaurios a la Tierra\, junto con una tribu cavernícola. \n\n\nFinancia la Diputación de Alicante mediante la convocatoria de la “Campaña de difusión de Música y Teatro. Anualidad 2022”\, por importe subvencionado de 2.000\,00€\, correspondiente al 100% del coste total de la actuación.
URL:https://www.torremanzanas.es/event/teatro-itinerante-aventura-prehistorica/
LOCATION:Alacant
CATEGORIES:Cultura
END:VEVENT
BEGIN:VEVENT
DTSTART;TZID=Europe/Madrid:20220723T190000
DTEND;TZID=Europe/Madrid:20220723T210000
DTSTAMP:20260424T035045
CREATED:20220722T075557Z
LAST-MODIFIED:20220722T075737Z
UID:10001215-1658602800-1658610000@www.torremanzanas.es
SUMMARY:Exposición de óleos Toni Gosálbez
DESCRIPTION:No et perdes aquesta  vesprada a les 19h\, la inauguració de l’exposició d’olis  de Toni Gosálbez en el «Basi».\nPots visitar l’exposició els divendres i dissabtes de  19h a 21h i els diumenges de 12h a 14h.\n——-\nNo te pierdas esta  tarde a las 19h\, la inauguración de la exposición de óleos de Toni Gosálbez en el «Basi».\nPuedes visitar la exposición los viernes y sábados de 19h a 21h y los domingos de 12h a 14h.
URL:https://www.torremanzanas.es/event/exposicion-de-oleos/2022-07-23/
LOCATION:Avda. España\, 3\, La Torre de les Maçanes\, 03108\, España
CATEGORIES:Cultura
END:VEVENT
BEGIN:VEVENT
DTSTART;TZID=Europe/Madrid:20220724T120000
DTEND;TZID=Europe/Madrid:20220724T140000
DTSTAMP:20260424T035045
CREATED:20220722T080324Z
LAST-MODIFIED:20220722T081317Z
UID:10001249-1658664000-1658671200@www.torremanzanas.es
SUMMARY:Exposición de óleos Toni Gosálbez
DESCRIPTION:No et perdes aquesta  vesprada a les 19h\, la inauguració de l’exposició d’olis  de Toni Gosálbez en el «Basi».\nPots visitar l’exposició els divendres i dissabtes de  19h a 21h i els diumenges de 12h a 14h.\n——-\nNo te pierdas esta  tarde a las 19h\, la inauguración de la exposición de óleos de Toni Gosálbez en el «Basi».\nPuedes visitar la exposición los viernes y sábados de 19h a 21h y los domingos de 12h a 14h.
URL:https://www.torremanzanas.es/event/exposicion-de-oleos-toni-gosalbez/2022-07-24/
LOCATION:Avda. España\, 3\, La Torre de les Maçanes\, 03108\, España
CATEGORIES:Cultura
END:VEVENT
BEGIN:VEVENT
DTSTART;TZID=Europe/Madrid:20220728T220000
DTEND;TZID=Europe/Madrid:20220728T233000
DTSTAMP:20260424T035045
CREATED:20220711T105045Z
LAST-MODIFIED:20220711T105612Z
UID:10001798-1659045600-1659051000@www.torremanzanas.es
SUMMARY:Dijous d'estiu. Cinema "Ice Age 2"
DESCRIPTION:?Cinema «Ice Age 2». Entrada gratuïta ?\n\n\nFinançat per l’Excma. Diputació Provincial d’Alacant\, 2022\, «Dijous d’estiu. Cinema en valencià»\, convocatòria d’ajudes a Ajuntaments de la Província d’Alacant per a la el foment de la llengua i cultura valenciana\, anualitat 2022\, per import de ? 2976\,60 €\, equivalent al ?%.\n\n\n——\n\n\n?Cine «Ice Age 2». Entrada gratuita ?\n\n\nFinanciado por la Excma. Diputación Provincial de Alicante\, 2022\, «Jueves de verano. Cine en valenciano»\, convocatoria de ayudas a Ayuntamientos de la Provincia de Alicante para la el fomento de la lengua y cultura valenciana\, anualidad 2022\, por importe de ? 2976\,60 €\, equivalente al ?%.
URL:https://www.torremanzanas.es/event/dijous-destiu-cinema-ice-age-2/
LOCATION:Patio del colegio\, Avda España\, La Torre de les Maçanes\, 03108\, España
CATEGORIES:Cultura
END:VEVENT
BEGIN:VEVENT
DTSTART;TZID=Europe/Madrid:20220729T190000
DTEND;TZID=Europe/Madrid:20220729T210000
DTSTAMP:20260424T035045
CREATED:20220722T075557Z
LAST-MODIFIED:20220722T075737Z
UID:10001216-1659121200-1659128400@www.torremanzanas.es
SUMMARY:Exposición de óleos Toni Gosálbez
DESCRIPTION:No et perdes aquesta  vesprada a les 19h\, la inauguració de l’exposició d’olis  de Toni Gosálbez en el «Basi».\nPots visitar l’exposició els divendres i dissabtes de  19h a 21h i els diumenges de 12h a 14h.\n——-\nNo te pierdas esta  tarde a las 19h\, la inauguración de la exposición de óleos de Toni Gosálbez en el «Basi».\nPuedes visitar la exposición los viernes y sábados de 19h a 21h y los domingos de 12h a 14h.
URL:https://www.torremanzanas.es/event/exposicion-de-oleos/2022-07-29/
LOCATION:Avda. España\, 3\, La Torre de les Maçanes\, 03108\, España
CATEGORIES:Cultura
END:VEVENT
BEGIN:VEVENT
DTSTART;TZID=Europe/Madrid:20220730T190000
DTEND;TZID=Europe/Madrid:20220730T210000
DTSTAMP:20260424T035045
CREATED:20220722T075557Z
LAST-MODIFIED:20220722T075737Z
UID:10001217-1659207600-1659214800@www.torremanzanas.es
SUMMARY:Exposición de óleos Toni Gosálbez
DESCRIPTION:No et perdes aquesta  vesprada a les 19h\, la inauguració de l’exposició d’olis  de Toni Gosálbez en el «Basi».\nPots visitar l’exposició els divendres i dissabtes de  19h a 21h i els diumenges de 12h a 14h.\n——-\nNo te pierdas esta  tarde a las 19h\, la inauguración de la exposición de óleos de Toni Gosálbez en el «Basi».\nPuedes visitar la exposición los viernes y sábados de 19h a 21h y los domingos de 12h a 14h.
URL:https://www.torremanzanas.es/event/exposicion-de-oleos/2022-07-30/
LOCATION:Avda. España\, 3\, La Torre de les Maçanes\, 03108\, España
CATEGORIES:Cultura
END:VEVENT
BEGIN:VEVENT
DTSTART;TZID=Europe/Madrid:20220730T210000
DTEND;TZID=Europe/Madrid:20220730T230000
DTSTAMP:20260424T035045
CREATED:20220728T085915Z
LAST-MODIFIED:20220728T085915Z
UID:10001913-1659214800-1659222000@www.torremanzanas.es
SUMMARY:30.07.22 "Siempre... Albaladre"
DESCRIPTION:Dissabte que ve 30 de juliol a les  21h al pati del col·legi\, no et perdes l’actuació musicovocal  ….. “Sempre…. Albaladre “\n\n\nFinança la Diputació d’Alacant mitjançant la mitjançant convocatòria de la “Campanya de difusió de Música i Teatre. Anualitat 2022”\, per import subvencionat de  2.000\,00€\, corresponent al 86\,956% del cost total de l’actuació\, que ascendeix a 2.300\,00 €.\n\n\n——-\n\n\nEl próximo sábado 30 de julio a las  21h en el patio del colegio\, no te pierdas la actuación musicovocal ….. “Siempre…. Albaladre “.\n\n\n\nFinancia la Diputación de Alicante mediante la mediante convocatoria de la “Campaña de difusión de Música y Teatro. Anualidad 2022”\, por importe subvencionado de 2.000\,00€\, correspondiente al 86\,956% del coste total de la actuación\, que asciende a 2.300\,00 €.
URL:https://www.torremanzanas.es/event/30-07-22-siempre-albaladre/
LOCATION:Patio del colegio\, Avda España\, La Torre de les Maçanes\, 03108\, España
CATEGORIES:Cultura
END:VEVENT
BEGIN:VEVENT
DTSTART;TZID=Europe/Madrid:20220731T120000
DTEND;TZID=Europe/Madrid:20220731T140000
DTSTAMP:20260424T035045
CREATED:20220722T080324Z
LAST-MODIFIED:20220722T081317Z
UID:10001250-1659268800-1659276000@www.torremanzanas.es
SUMMARY:Exposición de óleos Toni Gosálbez
DESCRIPTION:No et perdes aquesta  vesprada a les 19h\, la inauguració de l’exposició d’olis  de Toni Gosálbez en el «Basi».\nPots visitar l’exposició els divendres i dissabtes de  19h a 21h i els diumenges de 12h a 14h.\n——-\nNo te pierdas esta  tarde a las 19h\, la inauguración de la exposición de óleos de Toni Gosálbez en el «Basi».\nPuedes visitar la exposición los viernes y sábados de 19h a 21h y los domingos de 12h a 14h.
URL:https://www.torremanzanas.es/event/exposicion-de-oleos-toni-gosalbez/2022-07-31/
LOCATION:Avda. España\, 3\, La Torre de les Maçanes\, 03108\, España
CATEGORIES:Cultura
END:VEVENT
BEGIN:VEVENT
DTSTART;TZID=Europe/Madrid:20220731T203000
DTEND;TZID=Europe/Madrid:20220731T220000
DTSTAMP:20260424T035045
CREATED:20220712T104537Z
LAST-MODIFIED:20220712T104537Z
UID:10001804-1659299400-1659304800@www.torremanzanas.es
SUMMARY:Espectáculo musical "Tararos Rock"
DESCRIPTION:Podràs gaudir d’un espectacle musical amb veus en directe per a tota la família compost per cançons populars al rock.\n\n\n​Un espectacle festiu i divertit per a ballar\, cantar i passar-lo genial.\n\n\nPatrocinat per la Diputació d’Alacant mitjançant la convocatòria d’activitats culturals\, musicals i escèniques\, per import de 1320\,00 € corresponent al 100%.\n\n\n——-  \n\n\nPodrás disfrutar de un espectáculo musical con voces en directo para toda la familia compuesto por canciones populares al rock.\n\n\n​Un espectáculo festivo y divertido para bailar\, cantar y pasarlo genial. \n\n\nPatrocinado por la Diputación de Alicante mediante la convocatoria de actividades culturales\, musicales y escénicas\, por importe de 1320\,00 € correspondiente al  100%.
URL:https://www.torremanzanas.es/event/espectaculo-musical-tararos-rock/
LOCATION:Patio del colegio\, Avda España\, La Torre de les Maçanes\, 03108\, España
CATEGORIES:Cultura
END:VEVENT
END:VCALENDAR