BEGIN:VCALENDAR
VERSION:2.0
PRODID:-//Ajuntament de La Torre de les Maçanes - ECPv6.15.15//NONSGML v1.0//EN
CALSCALE:GREGORIAN
METHOD:PUBLISH
X-ORIGINAL-URL:https://www.torremanzanas.es/ca/
X-WR-CALDESC:Esdeveniments per Ajuntament de La Torre de les Maçanes
REFRESH-INTERVAL;VALUE=DURATION:PT1H
X-Robots-Tag:noindex
X-PUBLISHED-TTL:PT1H
BEGIN:VTIMEZONE
TZID:Europe/Madrid
BEGIN:DAYLIGHT
TZOFFSETFROM:+0100
TZOFFSETTO:+0200
TZNAME:CEST
DTSTART:20210328T010000
END:DAYLIGHT
BEGIN:STANDARD
TZOFFSETFROM:+0200
TZOFFSETTO:+0100
TZNAME:CET
DTSTART:20211031T010000
END:STANDARD
BEGIN:DAYLIGHT
TZOFFSETFROM:+0100
TZOFFSETTO:+0200
TZNAME:CEST
DTSTART:20220327T010000
END:DAYLIGHT
BEGIN:STANDARD
TZOFFSETFROM:+0200
TZOFFSETTO:+0100
TZNAME:CET
DTSTART:20221030T010000
END:STANDARD
BEGIN:DAYLIGHT
TZOFFSETFROM:+0100
TZOFFSETTO:+0200
TZNAME:CEST
DTSTART:20230326T010000
END:DAYLIGHT
BEGIN:STANDARD
TZOFFSETFROM:+0200
TZOFFSETTO:+0100
TZNAME:CET
DTSTART:20231029T010000
END:STANDARD
END:VTIMEZONE
BEGIN:VEVENT
DTSTART;TZID=Europe/Madrid:20221214T100000
DTEND;TZID=Europe/Madrid:20221214T140000
DTSTAMP:20260424T232135
CREATED:20221110T083822Z
LAST-MODIFIED:20221110T083822Z
UID:10002429-1671012000-1671026400@www.torremanzanas.es
SUMMARY:Com utilitzar el teu Telèfon intel·ligent per a trobar ocupació
DESCRIPTION:
URL:https://www.torremanzanas.es/ca/event/com-utilitzar-el-teu-telefon-intelligent-per-a-trobar-ocupacio/
LOCATION:Oficinas del Ayuntamiento
CATEGORIES:Formació
END:VEVENT
BEGIN:VEVENT
DTSTART;TZID=Europe/Madrid:20221130T090000
DTEND;TZID=Europe/Madrid:20221130T140000
DTSTAMP:20260424T232135
CREATED:20221110T083101Z
LAST-MODIFIED:20230109T120511Z
UID:10002422-1669798800-1669816800@www.torremanzanas.es
SUMMARY:Xarxes socials/professionals
DESCRIPTION:
URL:https://www.torremanzanas.es/ca/event/xarxes-socials-professionals/
LOCATION:Oficinas del Ayuntamiento
CATEGORIES:Formació
END:VEVENT
BEGIN:VEVENT
DTSTART;TZID=Europe/Madrid:20221116T100000
DTEND;TZID=Europe/Madrid:20221116T140000
DTSTAMP:20260424T232135
CREATED:20221110T082058Z
LAST-MODIFIED:20221110T082058Z
UID:10002421-1668592800-1668607200@www.torremanzanas.es
SUMMARY:Com millorar el meu currículum
DESCRIPTION:
URL:https://www.torremanzanas.es/ca/event/com-millorar-el-meu-curriculum/
LOCATION:Oficinas del Ayuntamiento
CATEGORIES:Formació
END:VEVENT
END:VCALENDAR